BEGIN:VCALENDAR
PRODID:-//Fastball Productions//NONSGML v1.0//EN
VERSION:2.0
X-WR-TIMEZONE:UTC
BEGIN:VEVENT
DTSTART:20171025T183000
DTEND:20171025T203000
DTSTAMP:20180123T160146
UID:5d44ee6f2c3f71b73125876103c8f6c4617@www.slowpitch.co.nz
CREATED:20180123T160146
DESCRIPTION:Sandlot Kids vs. SLOBLAKS , Game Completed
LOCATION:Meadowland Reserve #4 ,52 Meadowland Drive, 2014
SUMMARY:Sandlot Kids vs. SLOBLAKS
END:VEVENT
BEGIN:VEVENT
DTSTART:20171025T183000
DTEND:20171025T203000
DTSTAMP:20180123T160146
UID:7750ca3559e5b8e1f44210283368fc16616@www.slowpitch.co.nz
CREATED:20180123T160146
DESCRIPTION:NZ College of Chiropractic vs. USUAL SUSPECTS , Game Completed
LOCATION:Meadowland Reserve #3 ,52 Meadowland Drive, 2014
SUMMARY:NZ College of Chiropractic vs. USUAL SUSPECTS
END:VEVENT
BEGIN:VEVENT
DTSTART:20171025T183000
DTEND:20171025T203000
DTSTAMP:20180123T160146
UID:eb6fdc36b281b7d5eabf33396c2683a2618@www.slowpitch.co.nz
CREATED:20180123T160146
DESCRIPTION:I'D HIT THAT vs. GOT THE RUNS , Game Completed
LOCATION:Meadowland Reserve #5 ,52 Meadowland Drive, 2014
SUMMARY:I'D HIT THAT vs. GOT THE RUNS
END:VEVENT
BEGIN:VEVENT
DTSTART:20171101T183000
DTEND:20171101T203000
DTSTAMP:20180123T160146
UID:cdc0d6e63aa8e41c89689f54970bb35f619@www.slowpitch.co.nz
CREATED:20180123T160146
DESCRIPTION:I'D HIT THAT vs. SLOBLAKS , Game Completed
LOCATION:Meadowland Reserve #4 ,52 Meadowland Drive, 2014
SUMMARY:I'D HIT THAT vs. SLOBLAKS
END:VEVENT
BEGIN:VEVENT
DTSTART:20171101T183000
DTEND:20171101T203000
DTSTAMP:20180123T160146
UID:b73dfe25b4b8714c029b37a6ad3006fa620@www.slowpitch.co.nz
CREATED:20180123T160146
DESCRIPTION:GOT THE RUNS vs. NZ College of Chiropractic , Game Completed
LOCATION:Meadowland Reserve #5 ,52 Meadowland Drive, 2014
SUMMARY:GOT THE RUNS vs. NZ College of Chiropractic
END:VEVENT
BEGIN:VEVENT
DTSTART:20171101T183000
DTEND:20171101T203000
DTSTAMP:20180123T160146
UID:85fc37b18c57097425b52fc7afbb6969621@www.slowpitch.co.nz
CREATED:20180123T160146
DESCRIPTION:USUAL SUSPECTS vs. Sandlot Kids , Game Completed
LOCATION:Meadowland Reserve #3 ,52 Meadowland Drive, 2014
SUMMARY:USUAL SUSPECTS vs. Sandlot Kids
END:VEVENT
BEGIN:VEVENT
DTSTART:20171108T183000
DTEND:20171108T203000
DTSTAMP:20180123T160146
UID:3871bd64012152bfb53fdf04b401193f622@www.slowpitch.co.nz
CREATED:20180123T160146
DESCRIPTION:NZ College of Chiropractic vs. SLOBLAKS , Game Completed
LOCATION:Meadowland Reserve #5 ,52 Meadowland Drive, 2014
SUMMARY:NZ College of Chiropractic vs. SLOBLAKS
END:VEVENT
BEGIN:VEVENT
DTSTART:20171108T183000
DTEND:20171108T203000
DTSTAMP:20180123T160146
UID:a733fa9b25f33689e2adbe72199f0e62623@www.slowpitch.co.nz
CREATED:20180123T160146
DESCRIPTION:USUAL SUSPECTS vs. GOT THE RUNS , Game Completed
LOCATION:Meadowland Reserve #3 ,52 Meadowland Drive, 2014
SUMMARY:USUAL SUSPECTS vs. GOT THE RUNS
END:VEVENT
BEGIN:VEVENT
DTSTART:20171108T183000
DTEND:20171108T203000
DTSTAMP:20180123T160146
UID:48ab2f9b45957ab574cf005eb8a76760624@www.slowpitch.co.nz
CREATED:20180123T160146
DESCRIPTION:Sandlot Kids vs. I'D HIT THAT , Game Completed
LOCATION:Meadowland Reserve #4 ,52 Meadowland Drive, 2014
SUMMARY:Sandlot Kids vs. I'D HIT THAT
END:VEVENT
BEGIN:VEVENT
DTSTART:20171115T183000
DTEND:20171115T203000
DTSTAMP:20180123T160146
UID:185c29dc24325934ee377cfda20e414c627@www.slowpitch.co.nz
CREATED:20180123T160146
DESCRIPTION:Sandlot Kids vs. NZ College of Chiropractic , Game Completed
LOCATION:Meadowland Reserve #5 ,52 Meadowland Drive, 2014
SUMMARY:Sandlot Kids vs. NZ College of Chiropractic
END:VEVENT
BEGIN:VEVENT
DTSTART:20171115T183000
DTEND:20171115T203000
DTSTAMP:20180123T160146
UID:45645a27c4f1adc8a7a835976064a86d626@www.slowpitch.co.nz
CREATED:20180123T160146
DESCRIPTION:I'D HIT THAT vs. USUAL SUSPECTS , Game Completed
LOCATION:Meadowland Reserve #4 ,52 Meadowland Drive, 2014
SUMMARY:I'D HIT THAT vs. USUAL SUSPECTS
END:VEVENT
BEGIN:VEVENT
DTSTART:20171115T183000
DTEND:20171115T203000
DTSTAMP:20180123T160146
UID:233509073ed3432027d48b1a83f5fbd2625@www.slowpitch.co.nz
CREATED:20180123T160146
DESCRIPTION:SLOBLAKS vs. GOT THE RUNS , Game Completed
LOCATION:Meadowland Reserve #3 ,52 Meadowland Drive, 2014
SUMMARY:SLOBLAKS vs. GOT THE RUNS
END:VEVENT
BEGIN:VEVENT
DTSTART:20171122T183000
DTEND:20171122T203000
DTSTAMP:20180123T160146
UID:42e77b63637ab381e8be5f8318cc28a2628@www.slowpitch.co.nz
CREATED:20180123T160146
DESCRIPTION:GOT THE RUNS vs. Sandlot Kids , Game Completed
LOCATION:Meadowland Reserve #4 ,52 Meadowland Drive, 2014
SUMMARY:GOT THE RUNS vs. Sandlot Kids
END:VEVENT
BEGIN:VEVENT
DTSTART:20171122T183000
DTEND:20171122T203000
DTSTAMP:20180123T160146
UID:051e4e127b92f5d98d3c79b195f2b291629@www.slowpitch.co.nz
CREATED:20180123T160146
DESCRIPTION:USUAL SUSPECTS vs. SLOBLAKS , Game Completed
LOCATION:Meadowland Reserve #5 ,52 Meadowland Drive, 2014
SUMMARY:USUAL SUSPECTS vs. SLOBLAKS
END:VEVENT
BEGIN:VEVENT
DTSTART:20171122T183000
DTEND:20171122T203000
DTSTAMP:20180123T160146
UID:9cc138f8dc04cbf16240daa92d8d50e2630@www.slowpitch.co.nz
CREATED:20180123T160146
DESCRIPTION:NZ College of Chiropractic vs. I'D HIT THAT , Game Completed
LOCATION:Meadowland Reserve #3 ,52 Meadowland Drive, 2014
SUMMARY:NZ College of Chiropractic vs. I'D HIT THAT
END:VEVENT
BEGIN:VEVENT
DTSTART:20171129T183000
DTEND:20171129T203000
DTSTAMP:20180123T160146
UID:b7bb35b9c6ca2aee2df08cf09d7016c2631@www.slowpitch.co.nz
CREATED:20180123T160146
DESCRIPTION:USUAL SUSPECTS vs. NZ College of Chiropractic , Game Completed
LOCATION:Meadowland Reserve #5 ,52 Meadowland Drive, 2014
SUMMARY:USUAL SUSPECTS vs. NZ College of Chiropractic
END:VEVENT
BEGIN:VEVENT
DTSTART:20171129T183000
DTEND:20171129T203000
DTSTAMP:20180123T160146
UID:abd815286ba1007abfbb8415b83ae2cf632@www.slowpitch.co.nz
CREATED:20180123T160146
DESCRIPTION:SLOBLAKS vs. Sandlot Kids , Game Completed
LOCATION:Meadowland Reserve #3 ,52 Meadowland Drive, 2014
SUMMARY:SLOBLAKS vs. Sandlot Kids
END:VEVENT
BEGIN:VEVENT
DTSTART:20171129T183000
DTEND:20171129T203000
DTSTAMP:20180123T160146
UID:26dd0dbc6e3f4c8043749885523d6a25633@www.slowpitch.co.nz
CREATED:20180123T160146
DESCRIPTION:GOT THE RUNS vs. I'D HIT THAT , Game Completed
LOCATION:Meadowland Reserve #4 ,52 Meadowland Drive, 2014
SUMMARY:GOT THE RUNS vs. I'D HIT THAT
END:VEVENT
BEGIN:VEVENT
DTSTART:20171206T183000
DTEND:20171206T203000
DTSTAMP:20180123T160146
UID:6766aa2750c19aad2fa1b32f36ed4aee634@www.slowpitch.co.nz
CREATED:20180123T160146
DESCRIPTION:SLOBLAKS vs. I'D HIT THAT , Game Completed
LOCATION:Meadowland Reserve #3 ,52 Meadowland Drive, 2014
SUMMARY:SLOBLAKS vs. I'D HIT THAT
END:VEVENT
BEGIN:VEVENT
DTSTART:20171206T183000
DTEND:20171206T203000
DTSTAMP:20180123T160146
UID:6a10bbd480e4c5573d8f3af73ae0454b635@www.slowpitch.co.nz
CREATED:20180123T160146
DESCRIPTION:NZ College of Chiropractic vs. GOT THE RUNS , Game Completed
LOCATION:Meadowland Reserve #4 ,52 Meadowland Drive, 2014
SUMMARY:NZ College of Chiropractic vs. GOT THE RUNS
END:VEVENT
BEGIN:VEVENT
DTSTART:20171206T183000
DTEND:20171206T203000
DTSTAMP:20180123T160146
UID:c5ab0bc60ac7929182aadd08703f1ec6636@www.slowpitch.co.nz
CREATED:20180123T160146
DESCRIPTION:Sandlot Kids vs. USUAL SUSPECTS , Game Completed
LOCATION:Meadowland Reserve #5 ,52 Meadowland Drive, 2014
SUMMARY:Sandlot Kids vs. USUAL SUSPECTS
END:VEVENT
BEGIN:VEVENT
DTSTART:20171213T183000
DTEND:20171213T203000
DTSTAMP:20180123T160146
UID:a532400ed62e772b9dc0b86f46e583ff637@www.slowpitch.co.nz
CREATED:20180123T160146
DESCRIPTION:SLOBLAKS vs. NZ College of Chiropractic , Game Completed
LOCATION:Meadowland Reserve #4 ,52 Meadowland Drive, 2014
SUMMARY:SLOBLAKS vs. NZ College of Chiropractic
END:VEVENT
BEGIN:VEVENT
DTSTART:20171213T183000
DTEND:20171213T203000
DTSTAMP:20180123T160146
UID:4c27cea8526af8cfee3be5e183ac9605638@www.slowpitch.co.nz
CREATED:20180123T160146
DESCRIPTION:GOT THE RUNS vs. USUAL SUSPECTS , Game Completed
LOCATION:Meadowland Reserve #5 ,52 Meadowland Drive, 2014
SUMMARY:GOT THE RUNS vs. USUAL SUSPECTS
END:VEVENT
BEGIN:VEVENT
DTSTART:20171213T183000
DTEND:20171213T203000
DTSTAMP:20180123T160146
UID:0f96613235062963ccde717b18f97592639@www.slowpitch.co.nz
CREATED:20180123T160146
DESCRIPTION:I'D HIT THAT vs. Sandlot Kids , As Scheduled
LOCATION:Meadowland Reserve #3 ,52 Meadowland Drive, 2014
SUMMARY:I'D HIT THAT vs. Sandlot Kids
END:VEVENT
BEGIN:VEVENT
DTSTART:20180117T183000
DTEND:20180117T203000
DTSTAMP:20180123T160146
UID:4ffce04d92a4d6cb21c1494cdfcd6dc1640@www.slowpitch.co.nz
CREATED:20180123T160146
DESCRIPTION:GOT THE RUNS vs. SLOBLAKS , Game Completed
LOCATION:Meadowland Reserve #4 ,52 Meadowland Drive, 2014
SUMMARY:GOT THE RUNS vs. SLOBLAKS
END:VEVENT
BEGIN:VEVENT
DTSTART:20180117T183000
DTEND:20180117T203000
DTSTAMP:20180123T160146
UID:67e103b0761e60683e83c559be18d40c641@www.slowpitch.co.nz
CREATED:20180123T160146
DESCRIPTION:USUAL SUSPECTS vs. I'D HIT THAT , Game Completed
LOCATION:Meadowland Reserve #5 ,52 Meadowland Drive, 2014
SUMMARY:USUAL SUSPECTS vs. I'D HIT THAT
END:VEVENT
BEGIN:VEVENT
DTSTART:20180117T183000
DTEND:20180117T203000
DTSTAMP:20180123T160146
UID:291597a100aadd814d197af4f4bab3a7642@www.slowpitch.co.nz
CREATED:20180123T160146
DESCRIPTION:NZ College of Chiropractic vs. Sandlot Kids , Game Completed
LOCATION:Meadowland Reserve #3 ,52 Meadowland Drive, 2014
SUMMARY:NZ College of Chiropractic vs. Sandlot Kids
END:VEVENT
BEGIN:VEVENT
DTSTART:20180124T183000
DTEND:20180124T203000
DTSTAMP:20180123T160146
UID:9b698eb3105bd82528f23d0c92dedfc0643@www.slowpitch.co.nz
CREATED:20180123T160146
DESCRIPTION:Sandlot Kids vs. GOT THE RUNS , As Scheduled
LOCATION:Meadowland Reserve #5 ,52 Meadowland Drive, 2014
SUMMARY:Sandlot Kids vs. GOT THE RUNS
END:VEVENT
BEGIN:VEVENT
DTSTART:20180124T183000
DTEND:20180124T203000
DTSTAMP:20180123T160146
UID:8c7bbbba95c1025975e548cee86dfadc644@www.slowpitch.co.nz
CREATED:20180123T160146
DESCRIPTION:SLOBLAKS vs. USUAL SUSPECTS , As Scheduled
LOCATION:Meadowland Reserve #3 ,52 Meadowland Drive, 2014
SUMMARY:SLOBLAKS vs. USUAL SUSPECTS
END:VEVENT
BEGIN:VEVENT
DTSTART:20180124T183000
DTEND:20180124T203000
DTSTAMP:20180123T160146
UID:5e9f92a01c986bafcabbafd145520b13645@www.slowpitch.co.nz
CREATED:20180123T160146
DESCRIPTION:I'D HIT THAT vs. NZ College of Chiropractic , As Scheduled
LOCATION:Meadowland Reserve #4 ,52 Meadowland Drive, 2014
SUMMARY:I'D HIT THAT vs. NZ College of Chiropractic
END:VEVENT
BEGIN:VEVENT
DTSTART:20180131T183000
DTEND:20180131T203000
DTSTAMP:20180123T160146
UID:0ff39bbbf981ac0151d340c9aa40e63e646@www.slowpitch.co.nz
CREATED:20180123T160146
DESCRIPTION:NZ College of Chiropractic vs. USUAL SUSPECTS , As Scheduled
LOCATION:Meadowland Reserve #3 ,52 Meadowland Drive, 2014
SUMMARY:NZ College of Chiropractic vs. USUAL SUSPECTS
END:VEVENT
BEGIN:VEVENT
DTSTART:20180131T183000
DTEND:20180131T203000
DTSTAMP:20180123T160146
UID:303ed4c69846ab36c2904d3ba8573050647@www.slowpitch.co.nz
CREATED:20180123T160146
DESCRIPTION:Sandlot Kids vs. SLOBLAKS , As Scheduled
LOCATION:Meadowland Reserve #4 ,52 Meadowland Drive, 2014
SUMMARY:Sandlot Kids vs. SLOBLAKS
END:VEVENT
BEGIN:VEVENT
DTSTART:20180131T183000
DTEND:20180131T203000
DTSTAMP:20180123T160146
UID:443cb001c138b2561a0d90720d6ce111648@www.slowpitch.co.nz
CREATED:20180123T160146
DESCRIPTION:I'D HIT THAT vs. GOT THE RUNS , As Scheduled
LOCATION:Meadowland Reserve #5 ,52 Meadowland Drive, 2014
SUMMARY:I'D HIT THAT vs. GOT THE RUNS
END:VEVENT
BEGIN:VEVENT
DTSTART:20180207T183000
DTEND:20180207T203000
DTSTAMP:20180123T160146
UID:55b37c5c270e5d84c793e486d798c01d649@www.slowpitch.co.nz
CREATED:20180123T160146
DESCRIPTION:I'D HIT THAT vs. SLOBLAKS , As Scheduled
LOCATION:Meadowland Reserve #4 ,52 Meadowland Drive, 2014
SUMMARY:I'D HIT THAT vs. SLOBLAKS
END:VEVENT
BEGIN:VEVENT
DTSTART:20180207T183000
DTEND:20180207T203000
DTSTAMP:20180123T160146
UID:884d247c6f65a96a7da4d1105d584ddd650@www.slowpitch.co.nz
CREATED:20180123T160146
DESCRIPTION:GOT THE RUNS vs. NZ College of Chiropractic , As Scheduled
LOCATION:Meadowland Reserve #5 ,52 Meadowland Drive, 2014
SUMMARY:GOT THE RUNS vs. NZ College of Chiropractic
END:VEVENT
BEGIN:VEVENT
DTSTART:20180207T183000
DTEND:20180207T203000
DTSTAMP:20180123T160146
UID:55743cc0393b1cb4b8b37d09ae48d097651@www.slowpitch.co.nz
CREATED:20180123T160146
DESCRIPTION:USUAL SUSPECTS vs. Sandlot Kids , As Scheduled
LOCATION:Meadowland Reserve #3 ,52 Meadowland Drive, 2014
SUMMARY:USUAL SUSPECTS vs. Sandlot Kids
END:VEVENT
BEGIN:VEVENT
DTSTART:20180214T183000
DTEND:20180214T203000
DTSTAMP:20180123T160146
UID:30ef30b64204a3088a26bc2e6ecf7602652@www.slowpitch.co.nz
CREATED:20180123T160146
DESCRIPTION:NZ College of Chiropractic vs. SLOBLAKS , As Scheduled
LOCATION:Meadowland Reserve #5 ,52 Meadowland Drive, 2014
SUMMARY:NZ College of Chiropractic vs. SLOBLAKS
END:VEVENT
BEGIN:VEVENT
DTSTART:20180214T183000
DTEND:20180214T203000
DTSTAMP:20180123T160146
UID:eaae339c4d89fc102edd9dbdb6a28915653@www.slowpitch.co.nz
CREATED:20180123T160146
DESCRIPTION:USUAL SUSPECTS vs. GOT THE RUNS , As Scheduled
LOCATION:Meadowland Reserve #3 ,52 Meadowland Drive, 2014
SUMMARY:USUAL SUSPECTS vs. GOT THE RUNS
END:VEVENT
BEGIN:VEVENT
DTSTART:20180214T183000
DTEND:20180214T203000
DTSTAMP:20180123T160146
UID:ab233b682ec355648e7891e66c54191b654@www.slowpitch.co.nz
CREATED:20180123T160146
DESCRIPTION:Sandlot Kids vs. I'D HIT THAT , As Scheduled
LOCATION:Meadowland Reserve #4 ,52 Meadowland Drive, 2014
SUMMARY:Sandlot Kids vs. I'D HIT THAT
END:VEVENT
BEGIN:VEVENT
DTSTART:20180221T183000
DTEND:20180221T203000
DTSTAMP:20180123T160146
UID:3d2d8ccb37df977cb6d9da15b76c3f3a655@www.slowpitch.co.nz
CREATED:20180123T160146
DESCRIPTION:SLOBLAKS vs. GOT THE RUNS , As Scheduled
LOCATION:Meadowland Reserve #3 ,52 Meadowland Drive, 2014
SUMMARY:SLOBLAKS vs. GOT THE RUNS
END:VEVENT
BEGIN:VEVENT
DTSTART:20180221T183000
DTEND:20180221T203000
DTSTAMP:20180123T160146
UID:26408ffa703a72e8ac0117e74ad46f33656@www.slowpitch.co.nz
CREATED:20180123T160146
DESCRIPTION:I'D HIT THAT vs. USUAL SUSPECTS , As Scheduled
LOCATION:Meadowland Reserve #4 ,52 Meadowland Drive, 2014
SUMMARY:I'D HIT THAT vs. USUAL SUSPECTS
END:VEVENT
BEGIN:VEVENT
DTSTART:20180221T183000
DTEND:20180221T203000
DTSTAMP:20180123T160146
UID:b4288d9c0ec0a1841b3b3728321e7088657@www.slowpitch.co.nz
CREATED:20180123T160146
DESCRIPTION:Sandlot Kids vs. NZ College of Chiropractic , As Scheduled
LOCATION:Meadowland Reserve #5 ,52 Meadowland Drive, 2014
SUMMARY:Sandlot Kids vs. NZ College of Chiropractic
END:VEVENT
BEGIN:VEVENT
DTSTART:20180228T183000
DTEND:20180228T203000
DTSTAMP:20180123T160146
UID:2f37d10131f2a483a8dd005b3d14b0d9658@www.slowpitch.co.nz
CREATED:20180123T160146
DESCRIPTION:GOT THE RUNS vs. Sandlot Kids , As Scheduled
LOCATION:Meadowland Reserve #4 ,52 Meadowland Drive, 2014
SUMMARY:GOT THE RUNS vs. Sandlot Kids
END:VEVENT
BEGIN:VEVENT
DTSTART:20180228T183000
DTEND:20180228T203000
DTSTAMP:20180123T160146
UID:0ff8033cf9437c213ee13937b1c4c455659@www.slowpitch.co.nz
CREATED:20180123T160146
DESCRIPTION:USUAL SUSPECTS vs. SLOBLAKS , As Scheduled
LOCATION:Meadowland Reserve #5 ,52 Meadowland Drive, 2014
SUMMARY:USUAL SUSPECTS vs. SLOBLAKS
END:VEVENT
BEGIN:VEVENT
DTSTART:20180228T183000
DTEND:20180228T203000
DTSTAMP:20180123T160146
UID:68264bdb65b97eeae6788aa3348e553c660@www.slowpitch.co.nz
CREATED:20180123T160146
DESCRIPTION:NZ College of Chiropractic vs. I'D HIT THAT , As Scheduled
LOCATION:Meadowland Reserve #3 ,52 Meadowland Drive, 2014
SUMMARY:NZ College of Chiropractic vs. I'D HIT THAT
END:VEVENT
END:VCALENDAR
