BEGIN:VCALENDAR
PRODID:-//Fastball Productions//NONSGML v1.0//EN
VERSION:2.0
X-WR-TIMEZONE:UTC
BEGIN:VEVENT
DTSTART:20171030T183000
DTEND:20171030T203000
DTSTAMP:20180123T155900
UID:2291d2ec3b3048d1a6f86c2c4591b7e0664@www.slowpitch.co.nz
CREATED:20180123T155900
DESCRIPTION:Western Yankees vs. BYE , Game Completed
LOCATION:Keith Hay Park #4 ,13 Noton Road, 1041
SUMMARY:Western Yankees vs. BYE
END:VEVENT
BEGIN:VEVENT
DTSTART:20171030T183000
DTEND:20171030T203000
DTSTAMP:20180123T155900
UID:8757150decbd89b0f5442ca3db4d0e0e663@www.slowpitch.co.nz
CREATED:20180123T155900
DESCRIPTION:Missiles vs. St. Elmo's Fire , Game Completed
LOCATION:Keith Hay Park #3 ,13 Noton Road, 1041
SUMMARY:Missiles vs. St. Elmo's Fire
END:VEVENT
BEGIN:VEVENT
DTSTART:20171030T183000
DTEND:20171030T203000
DTSTAMP:20180123T155900
UID:be3159ad04564bfb90db9e32851ebf9c662@www.slowpitch.co.nz
CREATED:20180123T155900
DESCRIPTION:Where My Pitches At vs. The Replacements , Game Completed
LOCATION:Keith Hay Park #2 ,13 Noton Road, 1041
SUMMARY:Where My Pitches At vs. The Replacements
END:VEVENT
BEGIN:VEVENT
DTSTART:20171030T183000
DTEND:20171030T203000
DTSTAMP:20180123T155900
UID:3a066bda8c96b9478bb0512f0a43028c661@www.slowpitch.co.nz
CREATED:20180123T155900
DESCRIPTION:Show Us Your Assets vs. Eagles/Titans , Game Completed
LOCATION:Keith Hay Park #1 ,13 Noton Road, 1041
SUMMARY:Show Us Your Assets vs. Eagles/Titans
END:VEVENT
BEGIN:VEVENT
DTSTART:20171106T183000
DTEND:20171106T203000
DTSTAMP:20180123T155900
UID:84117275be999ff55a987b9381e01f96665@www.slowpitch.co.nz
CREATED:20180123T155900
DESCRIPTION:Eagles/Titans vs. Western Yankees , Game Completed
LOCATION:Keith Hay Park #1 ,13 Noton Road, 1041
SUMMARY:Eagles/Titans vs. Western Yankees
END:VEVENT
BEGIN:VEVENT
DTSTART:20171106T183000
DTEND:20171106T203000
DTSTAMP:20180123T155900
UID:fae0b27c451c728867a567e8c1bb4e53666@www.slowpitch.co.nz
CREATED:20180123T155900
DESCRIPTION:St. Elmo's Fire vs. Where My Pitches At , Game Completed
LOCATION:Keith Hay Park #2 ,13 Noton Road, 1041
SUMMARY:St. Elmo's Fire vs. Where My Pitches At
END:VEVENT
BEGIN:VEVENT
DTSTART:20171106T183000
DTEND:20171106T203000
DTSTAMP:20180123T155900
UID:b5dc4e5d9b495d0196f61d45b26ef33e667@www.slowpitch.co.nz
CREATED:20180123T155900
DESCRIPTION:The Replacements vs. Missiles , Game Completed
LOCATION:Keith Hay Park #3 ,13 Noton Road, 1041
SUMMARY:The Replacements vs. Missiles
END:VEVENT
BEGIN:VEVENT
DTSTART:20171106T183000
DTEND:20171106T203000
DTSTAMP:20180123T155900
UID:192fc044e74dffea144f9ac5dc9f3395668@www.slowpitch.co.nz
CREATED:20180123T155900
DESCRIPTION:Show Us Your Assets vs. BYE , Game Completed
LOCATION:Keith Hay Park #4 ,13 Noton Road, 1041
SUMMARY:Show Us Your Assets vs. BYE
END:VEVENT
BEGIN:VEVENT
DTSTART:20171113T183000
DTEND:20171113T203000
DTSTAMP:20180123T155900
UID:5c04925674920eb58467fb52ce4ef728669@www.slowpitch.co.nz
CREATED:20180123T155900
DESCRIPTION:St. Elmo's Fire vs. The Replacements , As Scheduled
LOCATION:Keith Hay Park #1 ,13 Noton Road, 1041
SUMMARY:St. Elmo's Fire vs. The Replacements
END:VEVENT
BEGIN:VEVENT
DTSTART:20171113T183000
DTEND:20171113T203000
DTSTAMP:20180123T155900
UID:17c276c8e723eb46aef576537e9d56d0670@www.slowpitch.co.nz
CREATED:20180123T155900
DESCRIPTION:Western Yankees vs. Show Us Your Assets , Game Completed
LOCATION:Keith Hay Park #2 ,13 Noton Road, 1041
SUMMARY:Western Yankees vs. Show Us Your Assets
END:VEVENT
BEGIN:VEVENT
DTSTART:20171113T183000
DTEND:20171113T203000
DTSTAMP:20180123T155900
UID:5dd9db5e033da9c6fb5ba83c7a7ebea9671@www.slowpitch.co.nz
CREATED:20180123T155900
DESCRIPTION:Where My Pitches At vs. Eagles/Titans , Game Completed
LOCATION:Keith Hay Park #3 ,13 Noton Road, 1041
SUMMARY:Where My Pitches At vs. Eagles/Titans
END:VEVENT
BEGIN:VEVENT
DTSTART:20171113T183000
DTEND:20171113T203000
DTSTAMP:20180123T155900
UID:2dea61eed4bceec564a00115c4d21334672@www.slowpitch.co.nz
CREATED:20180123T155900
DESCRIPTION:Missiles vs. BYE , Game Completed
LOCATION:Keith Hay Park #4 ,13 Noton Road, 1041
SUMMARY:Missiles vs. BYE
END:VEVENT
BEGIN:VEVENT
DTSTART:20171120T183000
DTEND:20171120T203000
DTSTAMP:20180123T155900
UID:9f396fe44e7c05c16873b05ec425cbad673@www.slowpitch.co.nz
CREATED:20180123T155900
DESCRIPTION:St. Elmo's Fire vs. Western Yankees , Game Completed
LOCATION:Keith Hay Park #1 ,13 Noton Road, 1041
SUMMARY:St. Elmo's Fire vs. Western Yankees
END:VEVENT
BEGIN:VEVENT
DTSTART:20171120T183000
DTEND:20171120T203000
DTSTAMP:20180123T155900
UID:0d7de1aca9299fe63f3e0041f02638a3674@www.slowpitch.co.nz
CREATED:20180123T155900
DESCRIPTION:Eagles/Titans vs. Missiles , Game Completed
LOCATION:Keith Hay Park #2 ,13 Noton Road, 1041
SUMMARY:Eagles/Titans vs. Missiles
END:VEVENT
BEGIN:VEVENT
DTSTART:20171120T183000
DTEND:20171120T203000
DTSTAMP:20180123T155900
UID:8fecb20817b3847419bb3de39a609afe675@www.slowpitch.co.nz
CREATED:20180123T155900
DESCRIPTION:Show Us Your Assets vs. Where My Pitches At , Game Completed
LOCATION:Keith Hay Park #3 ,13 Noton Road, 1041
SUMMARY:Show Us Your Assets vs. Where My Pitches At
END:VEVENT
BEGIN:VEVENT
DTSTART:20171120T183000
DTEND:20171120T203000
DTSTAMP:20180123T155900
UID:dc6a70712a252123c40d2adba6a11d84676@www.slowpitch.co.nz
CREATED:20180123T155900
DESCRIPTION:The Replacements vs. BYE , Game Completed
LOCATION:Keith Hay Park #4 ,13 Noton Road, 1041
SUMMARY:The Replacements vs. BYE
END:VEVENT
BEGIN:VEVENT
DTSTART:20171127T183000
DTEND:20171127T203000
DTSTAMP:20180123T155900
UID:71a3cb155f8dc89bf3d0365288219936677@www.slowpitch.co.nz
CREATED:20180123T155900
DESCRIPTION:The Replacements vs. Eagles/Titans , Game Completed
LOCATION:Keith Hay Park #1 ,13 Noton Road, 1041
SUMMARY:The Replacements vs. Eagles/Titans
END:VEVENT
BEGIN:VEVENT
DTSTART:20171127T183000
DTEND:20171127T203000
DTSTAMP:20180123T155900
UID:9fe8593a8a330607d76796b35c64c600678@www.slowpitch.co.nz
CREATED:20180123T155900
DESCRIPTION:Missiles vs. Show Us Your Assets , Game Completed
LOCATION:Keith Hay Park #2 ,13 Noton Road, 1041
SUMMARY:Missiles vs. Show Us Your Assets
END:VEVENT
BEGIN:VEVENT
DTSTART:20171127T183000
DTEND:20171127T203000
DTSTAMP:20180123T155900
UID:ca9c267dad0305d1a6308d2a0cf1c39c679@www.slowpitch.co.nz
CREATED:20180123T155900
DESCRIPTION:Where My Pitches At vs. Western Yankees , Game Completed
LOCATION:Keith Hay Park #3 ,13 Noton Road, 1041
SUMMARY:Where My Pitches At vs. Western Yankees
END:VEVENT
BEGIN:VEVENT
DTSTART:20171127T183000
DTEND:20171127T203000
DTSTAMP:20180123T155900
UID:fccb3cdc9acc14a6e70a12f74560c026680@www.slowpitch.co.nz
CREATED:20180123T155900
DESCRIPTION:St. Elmo's Fire vs. BYE , Game Completed
LOCATION:Keith Hay Park #4 ,13 Noton Road, 1041
SUMMARY:St. Elmo's Fire vs. BYE
END:VEVENT
BEGIN:VEVENT
DTSTART:20171204T183000
DTEND:20171204T203000
DTSTAMP:20180123T155900
UID:1595af6435015c77a7149e92a551338e681@www.slowpitch.co.nz
CREATED:20180123T155900
DESCRIPTION:Western Yankees vs. Missiles , Game Completed
LOCATION:Keith Hay Park #1 ,13 Noton Road, 1041
SUMMARY:Western Yankees vs. Missiles
END:VEVENT
BEGIN:VEVENT
DTSTART:20171204T183000
DTEND:20171204T203000
DTSTAMP:20180123T155900
UID:08d98638c6fcd194a4b1e6992063e944682@www.slowpitch.co.nz
CREATED:20180123T155900
DESCRIPTION:Eagles/Titans vs. St. Elmo's Fire , Game Completed
LOCATION:Keith Hay Park #2 ,13 Noton Road, 1041
SUMMARY:Eagles/Titans vs. St. Elmo's Fire
END:VEVENT
BEGIN:VEVENT
DTSTART:20171204T183000
DTEND:20171204T203000
DTSTAMP:20180123T155900
UID:24681928425f5a9133504de568f5f6df683@www.slowpitch.co.nz
CREATED:20180123T155900
DESCRIPTION:Show Us Your Assets vs. The Replacements , Game Completed
LOCATION:Keith Hay Park #3 ,13 Noton Road, 1041
SUMMARY:Show Us Your Assets vs. The Replacements
END:VEVENT
BEGIN:VEVENT
DTSTART:20171204T183000
DTEND:20171204T203000
DTSTAMP:20180123T155900
UID:556f391937dfd4398cbac35e050a2177684@www.slowpitch.co.nz
CREATED:20180123T155900
DESCRIPTION:Where My Pitches At vs. BYE , Game Completed
LOCATION:Keith Hay Park #4 ,13 Noton Road, 1041
SUMMARY:Where My Pitches At vs. BYE
END:VEVENT
BEGIN:VEVENT
DTSTART:20171211T183000
DTEND:20171211T203000
DTSTAMP:20180123T155900
UID:3328bdf9a4b9504b9398284244fe97c2685@www.slowpitch.co.nz
CREATED:20180123T155900
DESCRIPTION:St. Elmo's Fire vs. Show Us Your Assets , Game Completed
LOCATION:Keith Hay Park #1 ,13 Noton Road, 1041
SUMMARY:St. Elmo's Fire vs. Show Us Your Assets
END:VEVENT
BEGIN:VEVENT
DTSTART:20171211T183000
DTEND:20171211T203000
DTSTAMP:20180123T155900
UID:109a0ca3bc27f3e96597370d5c8cf03d686@www.slowpitch.co.nz
CREATED:20180123T155900
DESCRIPTION:Missiles vs. Where My Pitches At , Game Completed
LOCATION:Keith Hay Park #3 ,13 Noton Road, 1041
SUMMARY:Missiles vs. Where My Pitches At
END:VEVENT
BEGIN:VEVENT
DTSTART:20171211T183000
DTEND:20171211T203000
DTSTAMP:20180123T155900
UID:7f5d04d189dfb634e6a85bb9d9adf21e687@www.slowpitch.co.nz
CREATED:20180123T155900
DESCRIPTION:The Replacements vs. Western Yankees , Game Completed
LOCATION:Keith Hay Park #6 ,13 Noton Road, 1041
SUMMARY:The Replacements vs. Western Yankees
END:VEVENT
BEGIN:VEVENT
DTSTART:20171211T183000
DTEND:20171211T203000
DTSTAMP:20180123T155900
UID:f79921bbae40a577928b76d2fc3edc2a688@www.slowpitch.co.nz
CREATED:20180123T155900
DESCRIPTION:Eagles/Titans vs. BYE , Game Completed
LOCATION:Keith Hay Park #4 ,13 Noton Road, 1041
SUMMARY:Eagles/Titans vs. BYE
END:VEVENT
BEGIN:VEVENT
DTSTART:20171218T183000
DTEND:20171218T203000
DTSTAMP:20180123T155900
UID:07a96b1f61097ccb54be14d6a47439b0689@www.slowpitch.co.nz
CREATED:20180123T155900
DESCRIPTION:Eagles/Titans vs. Show Us Your Assets , As Scheduled
LOCATION:Keith Hay Park #1 ,13 Noton Road, 1041
SUMMARY:Eagles/Titans vs. Show Us Your Assets
END:VEVENT
BEGIN:VEVENT
DTSTART:20171218T183000
DTEND:20171218T203000
DTSTAMP:20180123T155900
UID:c06d06da9666a219db15cf575aff2824690@www.slowpitch.co.nz
CREATED:20180123T155900
DESCRIPTION:The Replacements vs. Where My Pitches At , As Scheduled
LOCATION:Keith Hay Park #2 ,13 Noton Road, 1041
SUMMARY:The Replacements vs. Where My Pitches At
END:VEVENT
BEGIN:VEVENT
DTSTART:20171218T183000
DTEND:20171218T203000
DTSTAMP:20180123T155900
UID:10a5ab2db37feedfdeaab192ead4ac0e691@www.slowpitch.co.nz
CREATED:20180123T155900
DESCRIPTION:St. Elmo's Fire vs. Missiles , Game Completed
LOCATION:Keith Hay Park #3 ,13 Noton Road, 1041
SUMMARY:St. Elmo's Fire vs. Missiles
END:VEVENT
BEGIN:VEVENT
DTSTART:20171218T183000
DTEND:20171218T203000
DTSTAMP:20180123T155900
UID:e555ebe0ce426f7f9b2bef0706315e0c692@www.slowpitch.co.nz
CREATED:20180123T155900
DESCRIPTION:Western Yankees vs. BYE , Game Completed
LOCATION:Keith Hay Park #4 ,13 Noton Road, 1041
SUMMARY:Western Yankees vs. BYE
END:VEVENT
BEGIN:VEVENT
DTSTART:20180115T183000
DTEND:20180115T203000
DTSTAMP:20180123T155900
UID:53e3a7161e428b65688f14b84d61c610693@www.slowpitch.co.nz
CREATED:20180123T155900
DESCRIPTION:Western Yankees vs. Eagles/Titans , Game Completed
LOCATION:Keith Hay Park #1 ,13 Noton Road, 1041
SUMMARY:Western Yankees vs. Eagles/Titans
END:VEVENT
BEGIN:VEVENT
DTSTART:20180115T183000
DTEND:20180115T203000
DTSTAMP:20180123T155900
UID:5487315b1286f907165907aa8fc96619694@www.slowpitch.co.nz
CREATED:20180123T155900
DESCRIPTION:Where My Pitches At vs. St. Elmo's Fire , Game Completed
LOCATION:Keith Hay Park #3 ,13 Noton Road, 1041
SUMMARY:Where My Pitches At vs. St. Elmo's Fire
END:VEVENT
BEGIN:VEVENT
DTSTART:20180115T183000
DTEND:20180115T203000
DTSTAMP:20180123T155900
UID:e4bb4c5173c2ce17fd8fcd40041c068f695@www.slowpitch.co.nz
CREATED:20180123T155900
DESCRIPTION:Missiles vs. The Replacements , Game Completed
LOCATION:Keith Hay Park #5 ,13 Noton Road, 1041
SUMMARY:Missiles vs. The Replacements
END:VEVENT
BEGIN:VEVENT
DTSTART:20180115T183000
DTEND:20180115T203000
DTSTAMP:20180123T155900
UID:0cb929eae7a499e50248a3a78f7acfc7696@www.slowpitch.co.nz
CREATED:20180123T155900
DESCRIPTION:BYE vs. Show Us Your Assets , Game Completed
LOCATION:Keith Hay Park #2 ,13 Noton Road, 1041
SUMMARY:BYE vs. Show Us Your Assets
END:VEVENT
BEGIN:VEVENT
DTSTART:20180122T183000
DTEND:20180122T203000
DTSTAMP:20180123T155900
UID:e5841df2166dd424a57127423d276bbe700@www.slowpitch.co.nz
CREATED:20180123T155900
DESCRIPTION:BYE vs. Missiles , As Scheduled
LOCATION:Keith Hay Park #2 ,13 Noton Road, 1041
SUMMARY:BYE vs. Missiles
END:VEVENT
BEGIN:VEVENT
DTSTART:20180122T183000
DTEND:20180122T203000
DTSTAMP:20180123T155900
UID:afd4836712c5e77550897e25711e1d96699@www.slowpitch.co.nz
CREATED:20180123T155900
DESCRIPTION:Eagles/Titans vs. Where My Pitches At , As Scheduled
LOCATION:Keith Hay Park #5 ,13 Noton Road, 1041
SUMMARY:Eagles/Titans vs. Where My Pitches At
END:VEVENT
BEGIN:VEVENT
DTSTART:20180122T183000
DTEND:20180122T203000
DTSTAMP:20180123T155900
UID:99bcfcd754a98ce89cb86f73acc04645698@www.slowpitch.co.nz
CREATED:20180123T155900
DESCRIPTION:Show Us Your Assets vs. Western Yankees , As Scheduled
LOCATION:Keith Hay Park #3 ,13 Noton Road, 1041
SUMMARY:Show Us Your Assets vs. Western Yankees
END:VEVENT
BEGIN:VEVENT
DTSTART:20180122T183000
DTEND:20180122T203000
DTSTAMP:20180123T155900
UID:8a0e1141fd37fa5b98d5bb769ba1a7cc697@www.slowpitch.co.nz
CREATED:20180123T155900
DESCRIPTION:The Replacements vs. St. Elmo's Fire , As Scheduled
LOCATION:Keith Hay Park #1 ,13 Noton Road, 1041
SUMMARY:The Replacements vs. St. Elmo's Fire
END:VEVENT
BEGIN:VEVENT
DTSTART:20180205T183000
DTEND:20180205T203000
DTSTAMP:20180123T155900
UID:f64eac11f2cd8f0efa196f8ad173178e704@www.slowpitch.co.nz
CREATED:20180123T155900
DESCRIPTION:BYE vs. The Replacements , As Scheduled
LOCATION:Keith Hay Park #2 ,13 Noton Road, 1041
SUMMARY:BYE vs. The Replacements
END:VEVENT
BEGIN:VEVENT
DTSTART:20180205T183000
DTEND:20180205T203000
DTSTAMP:20180123T155900
UID:d6c651ddcd97183b2e40bc464231c962703@www.slowpitch.co.nz
CREATED:20180123T155900
DESCRIPTION:Where My Pitches At vs. Show Us Your Assets , As Scheduled
LOCATION:Keith Hay Park #5 ,13 Noton Road, 1041
SUMMARY:Where My Pitches At vs. Show Us Your Assets
END:VEVENT
BEGIN:VEVENT
DTSTART:20180205T183000
DTEND:20180205T203000
DTSTAMP:20180123T155900
UID:b1eec33c726a60554bc78518d5f9b32c702@www.slowpitch.co.nz
CREATED:20180123T155900
DESCRIPTION:Missiles vs. Eagles/Titans , As Scheduled
LOCATION:Keith Hay Park #3 ,13 Noton Road, 1041
SUMMARY:Missiles vs. Eagles/Titans
END:VEVENT
BEGIN:VEVENT
DTSTART:20180205T183000
DTEND:20180205T203000
DTSTAMP:20180123T155900
UID:b4a528955b84f584974e92d025a75d1f701@www.slowpitch.co.nz
CREATED:20180123T155900
DESCRIPTION:Western Yankees vs. St. Elmo's Fire , As Scheduled
LOCATION:Keith Hay Park #1 ,13 Noton Road, 1041
SUMMARY:Western Yankees vs. St. Elmo's Fire
END:VEVENT
BEGIN:VEVENT
DTSTART:20180212T183000
DTEND:20180212T203000
DTSTAMP:20180123T155900
UID:4a47d2983c8bd392b120b627e0e1cab4705@www.slowpitch.co.nz
CREATED:20180123T155900
DESCRIPTION:Eagles/Titans vs. The Replacements , As Scheduled
LOCATION:Keith Hay Park #1 ,13 Noton Road, 1041
SUMMARY:Eagles/Titans vs. The Replacements
END:VEVENT
BEGIN:VEVENT
DTSTART:20180212T183000
DTEND:20180212T203000
DTSTAMP:20180123T155900
UID:9c82c7143c102b71c593d98d96093fde706@www.slowpitch.co.nz
CREATED:20180123T155900
DESCRIPTION:Show Us Your Assets vs. Missiles , As Scheduled
LOCATION:Keith Hay Park #3 ,13 Noton Road, 1041
SUMMARY:Show Us Your Assets vs. Missiles
END:VEVENT
BEGIN:VEVENT
DTSTART:20180212T183000
DTEND:20180212T203000
DTSTAMP:20180123T155900
UID:500e75a036dc2d7d2fec5da1b71d36cc707@www.slowpitch.co.nz
CREATED:20180123T155900
DESCRIPTION:Western Yankees vs. Where My Pitches At , As Scheduled
LOCATION:Keith Hay Park #5 ,13 Noton Road, 1041
SUMMARY:Western Yankees vs. Where My Pitches At
END:VEVENT
BEGIN:VEVENT
DTSTART:20180212T183000
DTEND:20180212T203000
DTSTAMP:20180123T155900
UID:ae0eb3eed39d2bcef4622b2499a05fe6708@www.slowpitch.co.nz
CREATED:20180123T155900
DESCRIPTION:BYE vs. St. Elmo's Fire , As Scheduled
LOCATION:Keith Hay Park #2 ,13 Noton Road, 1041
SUMMARY:BYE vs. St. Elmo's Fire
END:VEVENT
BEGIN:VEVENT
DTSTART:20180219T183000
DTEND:20180219T203000
DTSTAMP:20180123T155900
UID:1ecfb463472ec9115b10c292ef8bc986709@www.slowpitch.co.nz
CREATED:20180123T155900
DESCRIPTION:Missiles vs. Western Yankees , As Scheduled
LOCATION:Keith Hay Park #1 ,13 Noton Road, 1041
SUMMARY:Missiles vs. Western Yankees
END:VEVENT
BEGIN:VEVENT
DTSTART:20180219T183000
DTEND:20180219T203000
DTSTAMP:20180123T155900
UID:e70611883d2760c8bbafb4acb29e3446710@www.slowpitch.co.nz
CREATED:20180123T155900
DESCRIPTION:St. Elmo's Fire vs. Eagles/Titans , As Scheduled
LOCATION:Keith Hay Park #3 ,13 Noton Road, 1041
SUMMARY:St. Elmo's Fire vs. Eagles/Titans
END:VEVENT
BEGIN:VEVENT
DTSTART:20180219T183000
DTEND:20180219T203000
DTSTAMP:20180123T155900
UID:6081594975a764c8e3a691fa2b3a321d711@www.slowpitch.co.nz
CREATED:20180123T155900
DESCRIPTION:The Replacements vs. Show Us Your Assets , As Scheduled
LOCATION:Keith Hay Park #5 ,13 Noton Road, 1041
SUMMARY:The Replacements vs. Show Us Your Assets
END:VEVENT
BEGIN:VEVENT
DTSTART:20180219T183000
DTEND:20180219T203000
DTSTAMP:20180123T155900
UID:19bc916108fc6938f52cb96f7e087941712@www.slowpitch.co.nz
CREATED:20180123T155900
DESCRIPTION:BYE vs. Where My Pitches At , As Scheduled
LOCATION:Keith Hay Park #2 ,13 Noton Road, 1041
SUMMARY:BYE vs. Where My Pitches At
END:VEVENT
BEGIN:VEVENT
DTSTART:20180226T183000
DTEND:20180226T203000
DTSTAMP:20180123T155900
UID:8df707a948fac1b4a0f97aa554886ec8715@www.slowpitch.co.nz
CREATED:20180123T155900
DESCRIPTION:Western Yankees vs. The Replacements , As Scheduled
LOCATION:Keith Hay Park #5 ,13 Noton Road, 1041
SUMMARY:Western Yankees vs. The Replacements
END:VEVENT
BEGIN:VEVENT
DTSTART:20180226T183000
DTEND:20180226T203000
DTSTAMP:20180123T155900
UID:d14220ee66aeec73c49038385428ec4c714@www.slowpitch.co.nz
CREATED:20180123T155900
DESCRIPTION:Where My Pitches At vs. Missiles , As Scheduled
LOCATION:Keith Hay Park #3 ,13 Noton Road, 1041
SUMMARY:Where My Pitches At vs. Missiles
END:VEVENT
BEGIN:VEVENT
DTSTART:20180226T183000
DTEND:20180226T203000
DTSTAMP:20180123T155900
UID:07c5807d0d927dcd0980f86024e5208b713@www.slowpitch.co.nz
CREATED:20180123T155900
DESCRIPTION:Show Us Your Assets vs. St. Elmo's Fire , As Scheduled
LOCATION:Keith Hay Park #1 ,13 Noton Road, 1041
SUMMARY:Show Us Your Assets vs. St. Elmo's Fire
END:VEVENT
BEGIN:VEVENT
DTSTART:20180226T183000
DTEND:20180226T203000
DTSTAMP:20180123T155900
UID:e7f8a7fb0b77bcb3b283af5be021448f716@www.slowpitch.co.nz
CREATED:20180123T155900
DESCRIPTION:BYE vs. Eagles/Titans , As Scheduled
LOCATION:Keith Hay Park #2 ,13 Noton Road, 1041
SUMMARY:BYE vs. Eagles/Titans
END:VEVENT
END:VCALENDAR
